BEGIN:VCALENDAR
VERSION:2.0
PRODID:-//Bill Bone - ECPv6.15.17.1//NONSGML v1.0//EN
CALSCALE:GREGORIAN
METHOD:PUBLISH
X-WR-CALNAME:Bill Bone
X-ORIGINAL-URL:https://billbone.com
X-WR-CALDESC:Events for Bill Bone
REFRESH-INTERVAL;VALUE=DURATION:PT1H
X-Robots-Tag:noindex
X-PUBLISHED-TTL:PT1H
BEGIN:VTIMEZONE
TZID:UTC
BEGIN:STANDARD
TZOFFSETFROM:+0000
TZOFFSETTO:+0000
TZNAME:UTC
DTSTART:20250101T000000
END:STANDARD
END:VTIMEZONE
BEGIN:VEVENT
DTSTART;TZID=UTC:20260426T190000
DTEND;TZID=UTC:20260426T190000
DTSTAMP:20260422T100020
CREATED:20251223T082934Z
LAST-MODIFIED:20260305T141313Z
UID:10000101-1777230000-1777230000@billbone.com
SUMMARY:BillBone Florida State MTB Championship
DESCRIPTION:
URL:https://billbone.com/event/billbone-florida-state-mtb-championship/
LOCATION:Markham Park\, 16001 FL-84\, Sunrise\, FL 33326\, USA
CATEGORIES:Gravel Cycling,Road Cycling
ORGANIZER;CN="Extreme Sports Productions":MAILTO:kevin@esptiming.com
END:VEVENT
BEGIN:VEVENT
DTSTART;TZID=UTC:20260503T190000
DTEND;TZID=UTC:20260503T190000
DTSTAMP:20260422T100020
CREATED:20250916T015554Z
LAST-MODIFIED:20260305T141305Z
UID:10000097-1777834800-1777834800@billbone.com
SUMMARY:City Bikes Down & Dirty Gravel Grinder
DESCRIPTION:
URL:https://billbone.com/event/city-bikes-down-dirty-gravel-grinder/
LOCATION:Markham Park\, 16001 FL-84\, Sunrise\, FL 33326\, USA
CATEGORIES:Gravel Cycling
ORGANIZER;CN="Extreme Sports Productions":MAILTO:kevin@esptiming.com
END:VEVENT
BEGIN:VEVENT
DTSTART;TZID=UTC:20260530T190000
DTEND;TZID=UTC:20260530T190000
DTSTAMP:20260422T100020
CREATED:20250710T015121Z
LAST-MODIFIED:20260305T141256Z
UID:10000093-1780167600-1780167600@billbone.com
SUMMARY:CATEGORY -Bill Bone Florida State Criterium Championship presented by City Bikes
DESCRIPTION:
URL:https://billbone.com/event/billbone-florida-state-crit-championship/
LOCATION:Okeeheelee Park (Pooch Pines Dog Park)\, 7715 Forest Hill Blvd\, West Palm Beach\, FL\, 33413\, United States
CATEGORIES:Gravel Cycling
ORGANIZER;CN="Extreme Sports Productions":MAILTO:kevin@esptiming.com
END:VEVENT
BEGIN:VEVENT
DTSTART;TZID=UTC:20260531T070000
DTEND;TZID=UTC:20260531T070000
DTSTAMP:20260422T100020
CREATED:20250710T021650Z
LAST-MODIFIED:20260305T141243Z
UID:10000094-1780210800-1780210800@billbone.com
SUMMARY:AGE GROUP - Bill Bone Florida State Criterium Championship presented by City Bikes
DESCRIPTION:
URL:https://billbone.com/event/age-group-billbone-florida-state-crit-championship/
LOCATION:Okeeheelee Park (Pooch Pines Dog Park)\, 7715 Forest Hill Blvd\, West Palm Beach\, FL\, 33413\, United States
CATEGORIES:Gravel Cycling
ORGANIZER;CN="Extreme Sports Productions":MAILTO:kevin@esptiming.com
END:VEVENT
BEGIN:VEVENT
DTSTART;TZID=UTC:20260628T060000
DTEND;TZID=UTC:20260628T180000
DTSTAMP:20260422T100020
CREATED:20260205T074534Z
LAST-MODIFIED:20260305T141132Z
UID:10000102-1782626400-1782669600@billbone.com
SUMMARY:BillBone Open Water Challenge
DESCRIPTION:
URL:https://billbone.com/event/billbone-open-water-challenge/
LOCATION:Oceanfront Beach Park\, 6415 N Ocean Blvd\, Ocean Ridge\, FL 33435
CATEGORIES:Water
ORGANIZER;CN="Extreme Sports Productions":MAILTO:kevin@esptiming.com
END:VEVENT
END:VCALENDAR